BEGIN:VCALENDAR
VERSION:2.0
PRODID:icalendar-ruby
CALSCALE:GREGORIAN
METHOD:PUBLISH
BEGIN:VEVENT
DTSTAMP:20260419T134535Z
UID:33-824127@lwcgroesbeck.org
DTSTART:20261025T153000Z
DTEND:20261025T170000Z
CLASS:PUBLIC
CREATED:20260419T072748
DESCRIPTION:
LAST-MODIFIED:20260419T072748
LOCATION:
SUMMARY:Sunday Service
URL;VALUE=URI:https://lwcgroesbeck.org/events/sunday-service/2026-10-25
END:VEVENT
END:VCALENDAR
